Workbook

Sheet Sheet1
B3: Tabel 1. | F3: Tabel 2. | J3: Tabel 3.
B4: Penjualan | F4: Penjualan_Detail | J4: Penjualan_Total
B5: 1 | C5: No_Nota | D5: PK | F5: 1 | G5: No_Urut | J5: 1 | K5: Jumlah | L5: SUM
B6: 2 | C6: Nama | F6: 2 | G6: Nama_produk | J6: 2 | K6: Dibayar
B7: 3 | C7: Tanggal | F7: 3 | G7: Jumlah | J7: 3 | K7: Kembalian
B8: 4 | C8: No_Meja | F8: 4 | G8: Harga_Satuan | J8: + | K8: No_Nota | L8: FK
F9: 5 | G9: Total | H9: =3*4
F10: + | G10: No_nota | H10: FK

Sheet penjualan
B3: no_nota | C3: id_pembeli | D3: tanggal | E3: no_meja | F3: bayar | G3: belanja | H3: Kembalian | I3: nama
B4: 1 | C4: 3 | D4: 45310 | E4: 3 | F4: 116625 | G4: =SUMIF(penjualan_detail!C:C,penjualan!B4,penjualan_detail!G:G) -> 256860 | H4: =F4-G4 -> -140235 | I4: =VLOOKUP(C4,pembeli!$B:$D,2,0) -> Citra Lestari
B5: 2 | C5: 16 | D5: 45306 | E5: 8 | F5: 53442 | G5: =SUMIF(penjualan_detail!C:C,penjualan!B5,penjualan_detail!G:G) -> 176655 | H5: =F5-G5 -> -123213 | I5: =VLOOKUP(C5,pembeli!$B:$D,2,0) -> Putri Amelia
B6: 3 | C6: 13 | D6: 45318 | E6: 9 | F6: 164096 | G6: =SUMIF(penjualan_detail!C:C,penjualan!B6,penjualan_detail!G:G) -> 127441 | H6: =F6-G6 -> 36655 | I6: =VLOOKUP(C6,pembeli!$B:$D,2,0) -> Maman Ramdan
B7: 4 | C7: 4 | D7: 45305 | E7: 5 | F7: 26495 | G7: =SUMIF(penjualan_detail!C:C,penjualan!B7,penjualan_detail!G:G) -> 241802 | H7: =F7-G7 -> -215307 | I7: =VLOOKUP(C7,pembeli!$B:$D,2,0) -> Deni Prasetyo
B8: 5 | C8: 16 | D8: 45304 | E8: 6 | F8: 119549 | G8: =SUMIF(penjualan_detail!C:C,penjualan!B8,penjualan_detail!G:G) -> 252689 | H8: =F8-G8 -> -133140 | I8: =VLOOKUP(C8,pembeli!$B:$D,2,0) -> Putri Amelia
B9: 6 | C9: 21 | D9: 45321 | E9: 7 | F9: 126097 | G9: =SUMIF(penjualan_detail!C:C,penjualan!B9,penjualan_detail!G:G) -> 234694 | H9: =F9-G9 -> -108597 | I9: =VLOOKUP(C9,pembeli!$B:$D,2,0) -> Umar Faisal
B10: 7 | C10: 16 | D10: 45321 | E10: 5 | F10: 129406 | G10: =SUMIF(penjualan_detail!C:C,penjualan!B10,penjualan_detail!G:G) -> 378332 | H10: =F10-G10 -> -248926 | I10: =VLOOKUP(C10,pembeli!$B:$D,2,0) -> Putri Amelia
B11: 8 | C11: 25 | D11: 45320 | E11: 8 | F11: 29103 | G11: =SUMIF(penjualan_detail!C:C,penjualan!B11,penjualan_detail!G:G) -> 51872 | H11: =F11-G11 -> -22769 | I11: =VLOOKUP(C11,pembeli!$B:$D,2,0) -> Yoga Rahman
B12: 9 | C12: 24 | D12: 45309 | E12: 5 | F12: 134328 | G12: =SUMIF(penjualan_detail!C:C,penjualan!B12,penjualan_detail!G:G) -> 134040 | H12: =F12-G12 -> 288 | I12: =VLOOKUP(C12,pembeli!$B:$D,2,0) -> Xenia Putri
B13: 10 | C13: 1 | D13: 45297 | E13: 1 | F13: 197401 | G13: =SUMIF(penjualan_detail!C:C,penjualan!B13,penjualan_detail!G:G) -> 20646 | H13: =F13-G13 -> 176755 | I13: =VLOOKUP(C13,pembeli!$B:$D,2,0) -> Andi Pratama
B14: 11 | C14: 30 | D14: 45295 | E14: 2 | F14: 102932 | G14: =SUMIF(penjualan_detail!C:C,penjualan!B14,penjualan_detail!G:G) -> 685639 | H14: =F14-G14 -> -582707 | I14: =VLOOKUP(C14,pembeli!$B:$D,2,0) -> Dian Kurniawati
B15: 12 | C15: 7 | D15: 45311 | E15: 9 | F15: 174675 | G15: =SUMIF(penjualan_detail!C:C,penjualan!B15,penjualan_detail!G:G) -> 42293 | H15: =F15-G15 -> 132382 | I15: =VLOOKUP(C15,pembeli!$B:$D,2,0) -> Gita Ramadhani
... B103: 100 | C103: 24 | D103: 45312 | E103: 5 | F103: 96573 | G103: =SUMIF(penjualan_detail!C:C,penjualan!B103,penjualan_detail!G:G) -> 343370 | H103: =F103-G103 -> -246797 | I103: =VLOOKUP(C103,pembeli!$B:$D,2,0) -> Xenia Putri

Sheet pembeli
B3: id | C3: nama | D3: alamat | E3: x belanja | F3: T Belanja
B4: 1 | C4: Andi Pratama | D4: Bandung | E4: =COUNTIF(penjualan!C:C,pembeli!B4) -> 4 | F4: =SUMIF(penjualan!C:C,pembeli!B4,penjualan!G:G) -> 517632
B5: 2 | C5: Budi Santoso | D5: Sleman | E5: =COUNTIF(penjualan!C:C,pembeli!B5) -> 2 | F5: =SUMIF(penjualan!C:C,pembeli!B5,penjualan!G:G) -> 389152
B6: 3 | C6: Citra Lestari | D6: Pontianak | E6: =COUNTIF(penjualan!C:C,pembeli!B6) -> 2 | F6: =SUMIF(penjualan!C:C,pembeli!B6,penjualan!G:G) -> 369420
B7: 4 | C7: Deni Prasetyo | D7: Semarang | E7: =COUNTIF(penjualan!C:C,pembeli!B7) -> 2 | F7: =SUMIF(penjualan!C:C,pembeli!B7,penjualan!G:G) -> 309446
B8: 5 | C8: Eka Wulandari | D8: Bengkayang | E8: =COUNTIF(penjualan!C:C,pembeli!B8) -> 3 | F8: =SUMIF(penjualan!C:C,pembeli!B8,penjualan!G:G) -> 1001932
B9: 6 | C9: Fajar Nugroho | D9: Bandung | E9: =COUNTIF(penjualan!C:C,pembeli!B9) -> 1 | F9: =SUMIF(penjualan!C:C,pembeli!B9,penjualan!G:G) -> 169374
B10: 7 | C10: Gita Ramadhani | D10: Sleman | E10: =COUNTIF(penjualan!C:C,pembeli!B10) -> 2 | F10: =SUMIF(penjualan!C:C,pembeli!B10,penjualan!G:G) -> 48212
B11: 8 | C11: Hari Setiawan | D11: Semarang | E11: =COUNTIF(penjualan!C:C,pembeli!B11) -> 3 | F11: =SUMIF(penjualan!C:C,pembeli!B11,penjualan!G:G) -> 977302
B12: 9 | C12: Indah Permata | D12: Pontianak | E12: =COUNTIF(penjualan!C:C,pembeli!B12) -> 1 | F12: =SUMIF(penjualan!C:C,pembeli!B12,penjualan!G:G) -> 40659
B13: 10 | C13: Joko Susanto | D13: Bandung | E13: =COUNTIF(penjualan!C:C,pembeli!B13) -> 4 | F13: =SUMIF(penjualan!C:C,pembeli!B13,penjualan!G:G) -> 655878
B14: 11 | C14: Kiki Amalia | D14: Bengkayang | E14: =COUNTIF(penjualan!C:C,pembeli!B14) -> 7 | F14: =SUMIF(penjualan!C:C,pembeli!B14,penjualan!G:G) -> 1895414
B15: 12 | C15: Lala Handayani | D15: Sleman | E15: =COUNTIF(penjualan!C:C,pembeli!B15) -> 4 | F15: =SUMIF(penjualan!C:C,pembeli!B15,penjualan!G:G) -> 394050
... B33: 30 | C33: Dian Kurniawati | D33: Bandung | E33: =COUNTIF(penjualan!C:C,pembeli!B33) -> 4 | F33: =SUMIF(penjualan!C:C,pembeli!B33,penjualan!G:G) -> 1182545

Sheet penjualan_detail
B3: no_urut | C3: no_nota | D3: nama_produk | E3: jumlah | F3: harga_satuan | G3: total | H3: pembeli
B4: 1 | C4: 78 | D4: Es Teh | E4: 3 | F4: 19193 | G4: =E4*F4 -> 57579 | H4: =VLOOKUP(VLOOKUP(C4,penjualan!B:C,2,0),pembeli!B:D,2,0) -> Rani Kartika
B5: 2 | C5: 97 | D5: Soto Ayam | E5: 4 | F5: 17322 | G5: =E5*F5 -> 69288 | H5: =VLOOKUP(VLOOKUP(C5,penjualan!B:C,2,0),pembeli!B:D,2,0) -> Zaki Maulana
B6: 3 | C6: 71 | D6: Mie Goreng | E6: 2 | F6: 14960 | G6: =E6*F6 -> 29920 | H6: =VLOOKUP(VLOOKUP(C6,penjualan!B:C,2,0),pembeli!B:D,2,0) -> Umar Faisal
B7: 4 | C7: 74 | D7: Bakso | E7: 4 | F7: 30550 | G7: =E7*F7 -> 122200 | H7: =VLOOKUP(VLOOKUP(C7,penjualan!B:C,2,0),pembeli!B:D,2,0) -> Eka Wulandari
B8: 5 | C8: 11 | D8: Es Jeruk | E8: 4 | F8: 35310 | G8: =E8*F8 -> 141240 | H8: =VLOOKUP(VLOOKUP(C8,penjualan!B:C,2,0),pembeli!B:D,2,0) -> Dian Kurniawati
B9: 6 | C9: 51 | D9: Es Jeruk | E9: 4 | F9: 14948 | G9: =E9*F9 -> 59792 | H9: =VLOOKUP(VLOOKUP(C9,penjualan!B:C,2,0),pembeli!B:D,2,0) -> Hari Setiawan
B10: 7 | C10: 18 | D10: Nasi Goreng | E10: 3 | F10: 22646 | G10: =E10*F10 -> 67938 | H10: =VLOOKUP(VLOOKUP(C10,penjualan!B:C,2,0),pembeli!B:D,2,0) -> Rani Kartika
B11: 8 | C11: 66 | D11: Bakso | E11: 5 | F11: 14275 | G11: =E11*F11 -> 71375 | H11: =VLOOKUP(VLOOKUP(C11,penjualan!B:C,2,0),pembeli!B:D,2,0) -> Budi Santoso
B12: 9 | C12: 63 | D12: Ayam Bakar | E12: 1 | F12: 29754 | G12: =E12*F12 -> 29754 | H12: =VLOOKUP(VLOOKUP(C12,penjualan!B:C,2,0),pembeli!B:D,2,0) -> Fajar Nugroho
B13: 10 | C13: 15 | D13: Bakso | E13: 2 | F13: 17719 | G13: =E13*F13 -> 35438 | H13: =VLOOKUP(VLOOKUP(C13,penjualan!B:C,2,0),pembeli!B:D,2,0) -> Rani Kartika
B14: 11 | C14: 66 | D14: Mie Goreng | E14: 5 | F14: 29024 | G14: =E14*F14 -> 145120 | H14: =VLOOKUP(VLOOKUP(C14,penjualan!B:C,2,0),pembeli!B:D,2,0) -> Budi Santoso
B15: 12 | C15: 72 | D15: Ayam Bakar | E15: 2 | F15: 37302 | G15: =E15*F15 -> 74604 | H15: =VLOOKUP(VLOOKUP(C15,penjualan!B:C,2,0),pembeli!B:D,2,0) -> Satria Wijaya
... B303: 300 | C303: 73 | D303: Nasi Goreng | E303: 5 | F303: 23564 | G303: =E303*F303 -> 117820 | H303: =VLOOKUP(VLOOKUP(C303,penjualan!B:C,2,0),pembeli!B:D,2,0) -> Bayu Fadilah
